BEGIN:VCALENDAR
VERSION:2.0
CALSCALE:GREGORIAN
PRODID:-//Diputació de Barcelona//DibaCMS//EN
BEGIN:VEVENT
UID:4966
DTSTAMP:20260422T063340
DTSTART:20100421T160000
DTEND:20100421T000000
SUMMARY:Apropem-nos a la llengua, amb M. Antònia Xalabarder
LOCATION:
METHOD:PUBLISH
X-WR-CALNAME:caldesm@caldesdemontbui.cat
X-WR-TIMEZONE:Europe/Madrid
DESCRIPTION:
URI:https://www.caldesdemontbui.cat/actualitat/agenda/apropem-nos-a-la-llengua-amb-m-antonia-xalabarder.html
CLASS:PUBLIC
END:VEVENT
END:VCALENDAR
