BEGIN:VCALENDAR
VERSION:2.0
CALSCALE:GREGORIAN
PRODID:-//Diputació de Barcelona//DibaCMS//EN
BEGIN:VEVENT
UID:4965
DTSTAMP:20260422T023551
DTSTART:20100421T090000
DTEND:20100421T000000
SUMMARY:Sortida als Saulons, Cararac i Remei
LOCATION:
METHOD:PUBLISH
X-WR-CALNAME:caldesm@caldesdemontbui.cat
X-WR-TIMEZONE:Europe/Madrid
DESCRIPTION:
URI:https://www.caldesdemontbui.cat/actualitat/agenda/sortida-als-saulons-cararac-i-remei.html
CLASS:PUBLIC
END:VEVENT
END:VCALENDAR
