BEGIN:VCALENDAR
VERSION:2.0
CALSCALE:GREGORIAN
PRODID:-//Diputació de Barcelona//DibaCMS//EN
BEGIN:VEVENT
UID:4964
DTSTAMP:20260422T022201
DTSTART:20100421T000000
DTEND:20100628T000000
SUMMARY:Thermalia inclou l'Espai Can Rius en les seves visites guiades
LOCATION:
METHOD:PUBLISH
X-WR-CALNAME:caldesm@caldesdemontbui.cat
X-WR-TIMEZONE:Europe/Madrid
DESCRIPTION:
URI:https://www.caldesdemontbui.cat/actualitat/agenda/thermalia-inclou-lespai-can-rius-en-les-seves-visites-guiades.html
CLASS:PUBLIC
END:VEVENT
END:VCALENDAR
