BEGIN:VCALENDAR
VERSION:2.0
CALSCALE:GREGORIAN
PRODID:-//Diputació de Barcelona//DibaCMS//EN
BEGIN:VEVENT
UID:4963
DTSTAMP:20260422T083711
DTSTART:20100420T090000
DTEND:20100430T210000
SUMMARY:Exposició de la mostra literària de la Fundació Santa Susanna
LOCATION:
METHOD:PUBLISH
X-WR-CALNAME:caldesm@caldesdemontbui.cat
X-WR-TIMEZONE:Europe/Madrid
DESCRIPTION:
URI:https://www.caldesdemontbui.cat/actualitat/agenda/exposicio-de-la-mostra-literaria-de-la-fundacio-santa-susanna.html
CLASS:PUBLIC
END:VEVENT
END:VCALENDAR
