BEGIN:VCALENDAR
VERSION:2.0
CALSCALE:GREGORIAN
PRODID:-//Diputació de Barcelona//DibaCMS//EN
BEGIN:VEVENT
UID:4962
DTSTAMP:20260422T022806
DTSTART:20100419T000000
DTEND:20100425T000000
SUMMARY:Ràdio Caldes. Setmana temàtica amb programació especial Sant Jordi 
LOCATION:
METHOD:PUBLISH
X-WR-CALNAME:caldesm@caldesdemontbui.cat
X-WR-TIMEZONE:Europe/Madrid
DESCRIPTION:
URI:https://www.caldesdemontbui.cat/actualitat/agenda/radio-caldes-setmana-tematica-amb-programacio-especial-sant-jordi-.html
CLASS:PUBLIC
END:VEVENT
END:VCALENDAR
