BEGIN:VCALENDAR
VERSION:2.0
CALSCALE:GREGORIAN
PRODID:-//Diputació de Barcelona//DibaCMS//EN
BEGIN:VEVENT
UID:4961
DTSTAMP:20260422T022048
DTSTART:20100419T000000
DTEND:20100419T000000
SUMMARY:Fi del termini del Concurs de Punts de Llibre Infantil de la Biblioteca
LOCATION:
METHOD:PUBLISH
X-WR-CALNAME:caldesm@caldesdemontbui.cat
X-WR-TIMEZONE:Europe/Madrid
DESCRIPTION:
URI:https://www.caldesdemontbui.cat/actualitat/agenda/fi-del-termini-del-concurs-de-punts-de-llibre-infantil-de-la-biblioteca.html
CLASS:PUBLIC
END:VEVENT
END:VCALENDAR
