BEGIN:VCALENDAR
VERSION:2.0
CALSCALE:GREGORIAN
PRODID:-//Diputació de Barcelona//DibaCMS//EN
BEGIN:VEVENT
UID:4958
DTSTAMP:20260422T065641
DTSTART:20100418T000000
DTEND:20100418T000000
SUMMARY:Sortida amb raquetes de neu i/o grampons
LOCATION:
METHOD:PUBLISH
X-WR-CALNAME:caldesm@caldesdemontbui.cat
X-WR-TIMEZONE:Europe/Madrid
DESCRIPTION:
URI:https://www.caldesdemontbui.cat/actualitat/agenda/sortida-amb-raquetes-de-neu-io-grampons.html
CLASS:PUBLIC
END:VEVENT
END:VCALENDAR
