BEGIN:VCALENDAR
VERSION:2.0
CALSCALE:GREGORIAN
PRODID:-//Diputació de Barcelona//DibaCMS//EN
BEGIN:VEVENT
UID:4957
DTSTAMP:20260422T063738
DTSTART:20100417T163000
DTEND:20100417T000000
SUMMARY:Actuació de dansa del ventre i Bollywood
LOCATION:
METHOD:PUBLISH
X-WR-CALNAME:caldesm@caldesdemontbui.cat
X-WR-TIMEZONE:Europe/Madrid
DESCRIPTION:
URI:https://www.caldesdemontbui.cat/actualitat/agenda/actuacio-de-dansa-del-ventre-i-bollywood.html
CLASS:PUBLIC
END:VEVENT
END:VCALENDAR
