BEGIN:VCALENDAR
VERSION:2.0
CALSCALE:GREGORIAN
PRODID:-//Diputació de Barcelona//DibaCMS//EN
BEGIN:VEVENT
UID:4956
DTSTAMP:20260421T231058
DTSTART:20100417T120000
DTEND:20100417T000000
SUMMARY:Reunió informativa sobre les colònies "Vacances en pau"
LOCATION:
METHOD:PUBLISH
X-WR-CALNAME:caldesm@caldesdemontbui.cat
X-WR-TIMEZONE:Europe/Madrid
DESCRIPTION:
URI:https://www.caldesdemontbui.cat/actualitat/agenda/reunio-informativa-sobre-les-colonies-vacances-en-pau.html
CLASS:PUBLIC
END:VEVENT
END:VCALENDAR
