BEGIN:VCALENDAR
VERSION:2.0
CALSCALE:GREGORIAN
PRODID:-//Diputació de Barcelona//DibaCMS//EN
BEGIN:VEVENT
UID:4953
DTSTAMP:20260422T005149
DTSTART:20100416T200000
DTEND:20100416T000000
SUMMARY:Ferrer i Guàrdia. Qui era? Què feia? Què deia? Per què el van matar?
LOCATION:
METHOD:PUBLISH
X-WR-CALNAME:caldesm@caldesdemontbui.cat
X-WR-TIMEZONE:Europe/Madrid
DESCRIPTION:
URI:https://www.caldesdemontbui.cat/actualitat/agenda/ferrer-i-guardia-qui-era-que-feia-que-deia-per-que-el-van-matar.html
CLASS:PUBLIC
END:VEVENT
END:VCALENDAR
