BEGIN:VCALENDAR
VERSION:2.0
CALSCALE:GREGORIAN
PRODID:-//Diputació de Barcelona//DibaCMS//EN
BEGIN:VEVENT
UID:4952
DTSTAMP:20260422T051946
DTSTART:20100416T000000
DTEND:20100430T000000
SUMMARY:Exposició de gravats i fotografies Òscar Samsó: Paraula i imatge
LOCATION:
METHOD:PUBLISH
X-WR-CALNAME:caldesm@caldesdemontbui.cat
X-WR-TIMEZONE:Europe/Madrid
DESCRIPTION:
URI:https://www.caldesdemontbui.cat/actualitat/agenda/exposicio-de-gravats-i-fotografies-oscar-samso-paraula-i-imatge.html
CLASS:PUBLIC
END:VEVENT
END:VCALENDAR
