BEGIN:VCALENDAR
VERSION:2.0
CALSCALE:GREGORIAN
PRODID:-//Diputació de Barcelona//DibaCMS//EN
BEGIN:VEVENT
UID:4950
DTSTAMP:20260421T230959
DTSTART:20100415T190000
DTEND:20100415T000000
SUMMARY:Cinefòrum amb motiu de la Setmana de l'Energia
LOCATION:
METHOD:PUBLISH
X-WR-CALNAME:caldesm@caldesdemontbui.cat
X-WR-TIMEZONE:Europe/Madrid
DESCRIPTION:
URI:https://www.caldesdemontbui.cat/actualitat/agenda/cineforum-amb-motiu-de-la-setmana-de-lenergia.html
CLASS:PUBLIC
END:VEVENT
END:VCALENDAR
