BEGIN:VCALENDAR
VERSION:2.0
CALSCALE:GREGORIAN
PRODID:-//Diputació de Barcelona//DibaCMS//EN
BEGIN:VEVENT
UID:4949
DTSTAMP:20260422T040956
DTSTART:20100415T183000
DTEND:20100415T000000
SUMMARY:Lliurament de premis del X Concurs de punts de llibre infantil
LOCATION:
METHOD:PUBLISH
X-WR-CALNAME:caldesm@caldesdemontbui.cat
X-WR-TIMEZONE:Europe/Madrid
DESCRIPTION:
URI:https://www.caldesdemontbui.cat/actualitat/agenda/lliurament-de-premis-del-x-concurs-de-punts-de-llibre-infantil.html
CLASS:PUBLIC
END:VEVENT
END:VCALENDAR
