BEGIN:VCALENDAR
VERSION:2.0
CALSCALE:GREGORIAN
PRODID:-//Diputació de Barcelona//DibaCMS//EN
BEGIN:VEVENT
UID:4948
DTSTAMP:20260422T051832
DTSTART:20100414T210000
DTEND:20100414T000000
SUMMARY:Propera reunió de la Plataforma d'entitats per Haití
LOCATION:
METHOD:PUBLISH
X-WR-CALNAME:caldesm@caldesdemontbui.cat
X-WR-TIMEZONE:Europe/Madrid
DESCRIPTION:
URI:https://www.caldesdemontbui.cat/actualitat/agenda/propera-reunio-de-la-plataforma-dentitats-per-haiti.html
CLASS:PUBLIC
END:VEVENT
END:VCALENDAR
