BEGIN:VCALENDAR
VERSION:2.0
CALSCALE:GREGORIAN
PRODID:-//Diputació de Barcelona//DibaCMS//EN
BEGIN:VEVENT
UID:4947
DTSTAMP:20260422T022451
DTSTART:20100414T170000
DTEND:20100415T200000
SUMMARY:16a Caravana Catalana d'Ajunta Humanitari per al Poble Sahrauí
LOCATION:
METHOD:PUBLISH
X-WR-CALNAME:caldesm@caldesdemontbui.cat
X-WR-TIMEZONE:Europe/Madrid
DESCRIPTION:
URI:https://www.caldesdemontbui.cat/actualitat/agenda/16a-caravana-catalana-dajunta-humanitari-per-al-poble-sahraui.html
CLASS:PUBLIC
END:VEVENT
END:VCALENDAR
