BEGIN:VCALENDAR
VERSION:2.0
CALSCALE:GREGORIAN
PRODID:-//Diputació de Barcelona//DibaCMS//EN
BEGIN:VEVENT
UID:4946
DTSTAMP:20260422T044922
DTSTART:20100414T160000
DTEND:20100414T000000
SUMMARY:La teràpida del riure
LOCATION:
METHOD:PUBLISH
X-WR-CALNAME:caldesm@caldesdemontbui.cat
X-WR-TIMEZONE:Europe/Madrid
DESCRIPTION:
URI:https://www.caldesdemontbui.cat/actualitat/agenda/la-terapida-del-riure.html
CLASS:PUBLIC
END:VEVENT
END:VCALENDAR
