BEGIN:VCALENDAR
VERSION:2.0
CALSCALE:GREGORIAN
PRODID:-//Diputació de Barcelona//DibaCMS//EN
BEGIN:VEVENT
UID:4945
DTSTAMP:20260422T135158
DTSTART:20100414T090000
DTEND:20100414T000000
SUMMARY:Sortida a la Masia Julià i el Parc Natural de Gallecs
LOCATION:
METHOD:PUBLISH
X-WR-CALNAME:caldesm@caldesdemontbui.cat
X-WR-TIMEZONE:Europe/Madrid
DESCRIPTION:
URI:https://www.caldesdemontbui.cat/actualitat/agenda/sortida-a-la-masia-julia-i-el-parc-natural-de-gallecs.html
CLASS:PUBLIC
END:VEVENT
END:VCALENDAR
