BEGIN:VCALENDAR
VERSION:2.0
CALSCALE:GREGORIAN
PRODID:-//Diputació de Barcelona//DibaCMS//EN
BEGIN:VEVENT
UID:4944
DTSTAMP:20260421T235342
DTSTART:20100413T180000
DTEND:20100413T000000
SUMMARY:Premi atrapallibres i protagonista jove 2009
LOCATION:
METHOD:PUBLISH
X-WR-CALNAME:caldesm@caldesdemontbui.cat
X-WR-TIMEZONE:Europe/Madrid
DESCRIPTION:
URI:https://www.caldesdemontbui.cat/actualitat/agenda/premi-atrapallibres-i-protagonista-jove-2009.html
CLASS:PUBLIC
END:VEVENT
END:VCALENDAR
