BEGIN:VCALENDAR
VERSION:2.0
CALSCALE:GREGORIAN
PRODID:-//Diputació de Barcelona//DibaCMS//EN
BEGIN:VEVENT
UID:4943
DTSTAMP:20260421T214504
DTSTART:20100412T160000
DTEND:20100412T000000
SUMMARY:Cinefòrum amb motiu del Dia de la Dona (activitat ajornada a causa de la nevada del 8 de març)
LOCATION:
METHOD:PUBLISH
X-WR-CALNAME:caldesm@caldesdemontbui.cat
X-WR-TIMEZONE:Europe/Madrid
DESCRIPTION:
URI:https://www.caldesdemontbui.cat/actualitat/agenda/cineforum-amb-motiu-del-dia-de-la-dona-activitat-ajornada-a-causa-de-la-nevada-del-8-de-marc.html
CLASS:PUBLIC
END:VEVENT
END:VCALENDAR
