BEGIN:VCALENDAR
VERSION:2.0
CALSCALE:GREGORIAN
PRODID:-//Diputació de Barcelona//DibaCMS//EN
BEGIN:VEVENT
UID:4942
DTSTAMP:20260422T004908
DTSTART:20100412T000000
DTEND:20100413T000000
SUMMARY:Inscripcions cursos d'informàtica de l'Esplai de la Gent Gran
LOCATION:
METHOD:PUBLISH
X-WR-CALNAME:caldesm@caldesdemontbui.cat
X-WR-TIMEZONE:Europe/Madrid
DESCRIPTION:
URI:https://www.caldesdemontbui.cat/actualitat/agenda/inscripcions-cursos-dinformatica-de-lesplai-de-la-gent-gran.html
CLASS:PUBLIC
END:VEVENT
END:VCALENDAR
