BEGIN:VCALENDAR
VERSION:2.0
CALSCALE:GREGORIAN
PRODID:-//Diputació de Barcelona//DibaCMS//EN
BEGIN:VEVENT
UID:4940
DTSTAMP:20260422T013845
DTSTART:20100409T163000
DTEND:20100409T000000
SUMMARY:Exhibició de ball de country
LOCATION:
METHOD:PUBLISH
X-WR-CALNAME:caldesm@caldesdemontbui.cat
X-WR-TIMEZONE:Europe/Madrid
DESCRIPTION:
URI:https://www.caldesdemontbui.cat/actualitat/agenda/exhibicio-de-ball-de-country.html
CLASS:PUBLIC
END:VEVENT
END:VCALENDAR
