BEGIN:VCALENDAR
VERSION:2.0
CALSCALE:GREGORIAN
PRODID:-//Diputació de Barcelona//DibaCMS//EN
BEGIN:VEVENT
UID:4939
DTSTAMP:20260422T004759
DTSTART:20100407T090000
DTEND:20100407T000000
SUMMARY:Sortida al Mas d'en Cisa de Sentmenat
LOCATION:
METHOD:PUBLISH
X-WR-CALNAME:caldesm@caldesdemontbui.cat
X-WR-TIMEZONE:Europe/Madrid
DESCRIPTION:
URI:https://www.caldesdemontbui.cat/actualitat/agenda/sortida-al-mas-den-cisa-de-sentmenat.html
CLASS:PUBLIC
END:VEVENT
END:VCALENDAR
