BEGIN:VCALENDAR
VERSION:2.0
CALSCALE:GREGORIAN
PRODID:-//Diputació de Barcelona//DibaCMS//EN
BEGIN:VEVENT
UID:4938
DTSTAMP:20260421T214041
DTSTART:20100402T000000
DTEND:20100402T000000
SUMMARY:Tradicional travessa de Caldes de Montbui a Montserrat
LOCATION:
METHOD:PUBLISH
X-WR-CALNAME:caldesm@caldesdemontbui.cat
X-WR-TIMEZONE:Europe/Madrid
DESCRIPTION:
URI:https://www.caldesdemontbui.cat/actualitat/agenda/tradicional-travessa-de-caldes-de-montbui-a-montserrat.html
CLASS:PUBLIC
END:VEVENT
END:VCALENDAR
