BEGIN:VCALENDAR
VERSION:2.0
CALSCALE:GREGORIAN
PRODID:-//Diputació de Barcelona//DibaCMS//EN
BEGIN:VEVENT
UID:4937
DTSTAMP:20260421T214529
DTSTART:20100401T170000
DTEND:20100401T000000
SUMMARY:El Tour Champions 2009 del FCBarcelona arriba a Caldes
LOCATION:
METHOD:PUBLISH
X-WR-CALNAME:caldesm@caldesdemontbui.cat
X-WR-TIMEZONE:Europe/Madrid
DESCRIPTION:
URI:https://www.caldesdemontbui.cat/actualitat/agenda/el-tour-champions-2009-del-fcbarcelona-arriba-a-caldes.html
CLASS:PUBLIC
END:VEVENT
END:VCALENDAR
