BEGIN:VCALENDAR
VERSION:2.0
CALSCALE:GREGORIAN
PRODID:-//Diputació de Barcelona//DibaCMS//EN
BEGIN:VEVENT
UID:4936
DTSTAMP:20260422T104411
DTSTART:20100401T000000
DTEND:20100509T000000
SUMMARY:A l'abril, Thermalia exposa "Xarxes. Els primers intercanvis fa 6.000 anys"
LOCATION:
METHOD:PUBLISH
X-WR-CALNAME:caldesm@caldesdemontbui.cat
X-WR-TIMEZONE:Europe/Madrid
DESCRIPTION:
URI:https://www.caldesdemontbui.cat/actualitat/agenda/a-labril-thermalia-exposa-xarxes-els-primers-intercanvis-fa-6000-anys.html
CLASS:PUBLIC
END:VEVENT
END:VCALENDAR
