BEGIN:VCALENDAR
VERSION:2.0
CALSCALE:GREGORIAN
PRODID:-//Diputació de Barcelona//DibaCMS//EN
BEGIN:VEVENT
UID:4934
DTSTAMP:20260422T004939
DTSTART:20100328T180000
DTEND:20100328T000000
SUMMARY:TACA'M: Pigmalió
LOCATION:
METHOD:PUBLISH
X-WR-CALNAME:caldesm@caldesdemontbui.cat
X-WR-TIMEZONE:Europe/Madrid
DESCRIPTION:
URI:https://www.caldesdemontbui.cat/actualitat/agenda/tacam-pigmalio.html
CLASS:PUBLIC
END:VEVENT
END:VCALENDAR
