BEGIN:VCALENDAR
VERSION:2.0
CALSCALE:GREGORIAN
PRODID:-//Diputació de Barcelona//DibaCMS//EN
BEGIN:VEVENT
UID:4933
DTSTAMP:20260421T230418
DTSTART:20100328T123000
DTEND:20100328T000000
SUMMARY:Ballada de sardanes a la nova plaça del Remei
LOCATION:
METHOD:PUBLISH
X-WR-CALNAME:caldesm@caldesdemontbui.cat
X-WR-TIMEZONE:Europe/Madrid
DESCRIPTION:
URI:https://www.caldesdemontbui.cat/actualitat/agenda/ballada-de-sardanes-a-la-nova-placa-del-remei.html
CLASS:PUBLIC
END:VEVENT
END:VCALENDAR
