BEGIN:VCALENDAR
VERSION:2.0
CALSCALE:GREGORIAN
PRODID:-//Diputació de Barcelona//DibaCMS//EN
BEGIN:VEVENT
UID:4932
DTSTAMP:20260422T072654
DTSTART:20100328T120000
DTEND:20100328T000000
SUMMARY:Inauguració del passeig del Remei
LOCATION:
METHOD:PUBLISH
X-WR-CALNAME:caldesm@caldesdemontbui.cat
X-WR-TIMEZONE:Europe/Madrid
DESCRIPTION:
URI:https://www.caldesdemontbui.cat/actualitat/agenda/inauguracio-del-passeig-del-remei.html
CLASS:PUBLIC
END:VEVENT
END:VCALENDAR
