BEGIN:VCALENDAR
VERSION:2.0
CALSCALE:GREGORIAN
PRODID:-//Diputació de Barcelona//DibaCMS//EN
BEGIN:VEVENT
UID:4931
DTSTAMP:20260421T214127
DTSTART:20100328T064500
DTEND:20100328T000000
SUMMARY:17a Etapa del Camí de Ronda entre Montcada i el Baixador de Vallvidriera
LOCATION:
METHOD:PUBLISH
X-WR-CALNAME:caldesm@caldesdemontbui.cat
X-WR-TIMEZONE:Europe/Madrid
DESCRIPTION:
URI:https://www.caldesdemontbui.cat/actualitat/agenda/17a-etapa-del-cami-de-ronda-entre-montcada-i-el-baixador-de-vallvidriera.html
CLASS:PUBLIC
END:VEVENT
END:VCALENDAR
