BEGIN:VCALENDAR
VERSION:2.0
CALSCALE:GREGORIAN
PRODID:-//Diputació de Barcelona//DibaCMS//EN
BEGIN:VEVENT
UID:4930
DTSTAMP:20260421T230801
DTSTART:20100326T180000
DTEND:20100326T000000
SUMMARY:Hora del conte: Històries menudes
LOCATION:
METHOD:PUBLISH
X-WR-CALNAME:caldesm@caldesdemontbui.cat
X-WR-TIMEZONE:Europe/Madrid
DESCRIPTION:
URI:https://www.caldesdemontbui.cat/actualitat/agenda/hora-del-conte-histories-menudes.html
CLASS:PUBLIC
END:VEVENT
END:VCALENDAR
