BEGIN:VCALENDAR
VERSION:2.0
CALSCALE:GREGORIAN
PRODID:-//Diputació de Barcelona//DibaCMS//EN
BEGIN:VEVENT
UID:4928
DTSTAMP:20260422T060930
DTSTART:20100321T180000
DTEND:20100321T000000
SUMMARY:TACA'M: "Les noces de Fígaro"
LOCATION:
METHOD:PUBLISH
X-WR-CALNAME:caldesm@caldesdemontbui.cat
X-WR-TIMEZONE:Europe/Madrid
DESCRIPTION:
URI:https://www.caldesdemontbui.cat/actualitat/agenda/tacam-les-noces-de-figaro.html
CLASS:PUBLIC
END:VEVENT
END:VCALENDAR
