BEGIN:VCALENDAR
VERSION:2.0
CALSCALE:GREGORIAN
PRODID:-//Diputació de Barcelona//DibaCMS//EN
BEGIN:VEVENT
UID:4927
DTSTAMP:20260422T121952
DTSTART:20100321T000000
DTEND:20100321T000000
SUMMARY:XIX Edició de la Caminada de Caldes
LOCATION:
METHOD:PUBLISH
X-WR-CALNAME:caldesm@caldesdemontbui.cat
X-WR-TIMEZONE:Europe/Madrid
DESCRIPTION:
URI:https://www.caldesdemontbui.cat/actualitat/agenda/xix-edicio-de-la-caminada-de-caldes.html
CLASS:PUBLIC
END:VEVENT
END:VCALENDAR
