BEGIN:VCALENDAR
VERSION:2.0
CALSCALE:GREGORIAN
PRODID:-//Diputació de Barcelona//DibaCMS//EN
BEGIN:VEVENT
UID:4926
DTSTAMP:20260422T031742
DTSTART:20100321T000000
DTEND:20100321T000000
SUMMARY:XIX Caminada popular del Amics del Sender: Ruta de Sant Sebastià
LOCATION:
METHOD:PUBLISH
X-WR-CALNAME:caldesm@caldesdemontbui.cat
X-WR-TIMEZONE:Europe/Madrid
DESCRIPTION:
URI:https://www.caldesdemontbui.cat/actualitat/agenda/xix-caminada-popular-del-amics-del-sender-ruta-de-sant-sebastia.html
CLASS:PUBLIC
END:VEVENT
END:VCALENDAR
