BEGIN:VCALENDAR
VERSION:2.0
CALSCALE:GREGORIAN
PRODID:-//Diputació de Barcelona//DibaCMS//EN
BEGIN:VEVENT
UID:4924
DTSTAMP:20260422T004842
DTSTART:20100320T000000
DTEND:20100321T000000
SUMMARY:Fem bullir l'olla: Mercat de l'Olla i la Caldera i XXV Mercat d'Artesans
LOCATION:
METHOD:PUBLISH
X-WR-CALNAME:caldesm@caldesdemontbui.cat
X-WR-TIMEZONE:Europe/Madrid
DESCRIPTION:
URI:https://www.caldesdemontbui.cat/actualitat/agenda/fem-bullir-lolla-mercat-de-lolla-i-la-caldera-i-xxv-mercat-dartesans.html
CLASS:PUBLIC
END:VEVENT
END:VCALENDAR
