BEGIN:VCALENDAR
VERSION:2.0
CALSCALE:GREGORIAN
PRODID:-//Diputació de Barcelona//DibaCMS//EN
BEGIN:VEVENT
UID:4923
DTSTAMP:20260422T022552
DTSTART:20100318T183000
DTEND:20100318T000000
SUMMARY:Taller: Turisme rural. Turisme sostenible
LOCATION:
METHOD:PUBLISH
X-WR-CALNAME:caldesm@caldesdemontbui.cat
X-WR-TIMEZONE:Europe/Madrid
DESCRIPTION:
URI:https://www.caldesdemontbui.cat/actualitat/agenda/taller-turisme-rural-turisme-sostenible.html
CLASS:PUBLIC
END:VEVENT
END:VCALENDAR
