BEGIN:VCALENDAR
VERSION:2.0
CALSCALE:GREGORIAN
PRODID:-//Diputació de Barcelona//DibaCMS//EN
BEGIN:VEVENT
UID:4922
DTSTAMP:20260422T023025
DTSTART:20100317T210000
DTEND:20100317T000000
SUMMARY:Reunió de la Plataforma d'entitats per Haití
LOCATION:
METHOD:PUBLISH
X-WR-CALNAME:caldesm@caldesdemontbui.cat
X-WR-TIMEZONE:Europe/Madrid
DESCRIPTION:
URI:https://www.caldesdemontbui.cat/actualitat/agenda/reunio-de-la-plataforma-dentitats-per-haiti.html
CLASS:PUBLIC
END:VEVENT
END:VCALENDAR
