BEGIN:VCALENDAR
VERSION:2.0
CALSCALE:GREGORIAN
PRODID:-//Diputació de Barcelona//DibaCMS//EN
BEGIN:VEVENT
UID:4921
DTSTAMP:20260421T223945
DTSTART:20100315T193000
DTEND:20100326T000000
SUMMARY:Xerrada: La Sindicatura de Greuges al servei de Catalunya (Cicle "Parlem de Catalunya)
LOCATION:
METHOD:PUBLISH
X-WR-CALNAME:caldesm@caldesdemontbui.cat
X-WR-TIMEZONE:Europe/Madrid
DESCRIPTION:
URI:https://www.caldesdemontbui.cat/actualitat/agenda/xerrada-la-sindicatura-de-greuges-al-servei-de-catalunya-cicle-parlem-de-catalunya.html
CLASS:PUBLIC
END:VEVENT
END:VCALENDAR
