BEGIN:VCALENDAR
VERSION:2.0
CALSCALE:GREGORIAN
PRODID:-//Diputació de Barcelona//DibaCMS//EN
BEGIN:VEVENT
UID:4920
DTSTAMP:20260421T235246
DTSTART:20100314T180000
DTEND:20100314T000000
SUMMARY:TACA'M: "La visita d'un inspector"
LOCATION:
METHOD:PUBLISH
X-WR-CALNAME:caldesm@caldesdemontbui.cat
X-WR-TIMEZONE:Europe/Madrid
DESCRIPTION:
URI:https://www.caldesdemontbui.cat/actualitat/agenda/tacam-la-visita-dun-inspector.html
CLASS:PUBLIC
END:VEVENT
END:VCALENDAR
