BEGIN:VCALENDAR
VERSION:2.0
CALSCALE:GREGORIAN
PRODID:-//Diputació de Barcelona//DibaCMS//EN
BEGIN:VEVENT
UID:4919
DTSTAMP:20260422T051915
DTSTART:20100314T123000
DTEND:20100314T000000
SUMMARY:Actuació de l'H30, de l'Escola de Música Joan Valls
LOCATION:
METHOD:PUBLISH
X-WR-CALNAME:caldesm@caldesdemontbui.cat
X-WR-TIMEZONE:Europe/Madrid
DESCRIPTION:
URI:https://www.caldesdemontbui.cat/actualitat/agenda/actuacio-de-lh30-de-lescola-de-msica-joan-valls.html
CLASS:PUBLIC
END:VEVENT
END:VCALENDAR
