BEGIN:VCALENDAR
VERSION:2.0
CALSCALE:GREGORIAN
PRODID:-//Diputació de Barcelona//DibaCMS//EN
BEGIN:VEVENT
UID:4917
DTSTAMP:20260422T135211
DTSTART:20100311T173000
DTEND:20100311T000000
SUMMARY:Taller de familiar de musicoteràpia 
LOCATION:
METHOD:PUBLISH
X-WR-CALNAME:caldesm@caldesdemontbui.cat
X-WR-TIMEZONE:Europe/Madrid
DESCRIPTION:
URI:https://www.caldesdemontbui.cat/actualitat/agenda/taller-de-familiar-de-musicoterapia-.html
CLASS:PUBLIC
END:VEVENT
END:VCALENDAR
