BEGIN:VCALENDAR
VERSION:2.0
CALSCALE:GREGORIAN
PRODID:-//Diputació de Barcelona//DibaCMS//EN
BEGIN:VEVENT
UID:4916
DTSTAMP:20260422T041746
DTSTART:20100311T000000
DTEND:20100331T000000
SUMMARY:Thermalia acull l'exposició Visió fotogràfica de Caldes de Montbui, de Joaquim Martí i Rodés
LOCATION:
METHOD:PUBLISH
X-WR-CALNAME:caldesm@caldesdemontbui.cat
X-WR-TIMEZONE:Europe/Madrid
DESCRIPTION:
URI:https://www.caldesdemontbui.cat/actualitat/agenda/thermalia-acull-lexposicio-visio-fotografica-de-caldes-de-montbui-de-joaquim-marti-i-rodes.html
CLASS:PUBLIC
END:VEVENT
END:VCALENDAR
