BEGIN:VCALENDAR
VERSION:2.0
CALSCALE:GREGORIAN
PRODID:-//Diputació de Barcelona//DibaCMS//EN
BEGIN:VEVENT
UID:4915
DTSTAMP:20260422T091212
DTSTART:20100310T163000
DTEND:20100310T000000
SUMMARY:Xerrada: Eficiència energètica a la llar 
LOCATION:
METHOD:PUBLISH
X-WR-CALNAME:caldesm@caldesdemontbui.cat
X-WR-TIMEZONE:Europe/Madrid
DESCRIPTION:
URI:https://www.caldesdemontbui.cat/actualitat/agenda/xerrada-eficiencia-energetica-a-la-llar-.html
CLASS:PUBLIC
END:VEVENT
END:VCALENDAR
