BEGIN:VCALENDAR
VERSION:2.0
CALSCALE:GREGORIAN
PRODID:-//Diputació de Barcelona//DibaCMS//EN
BEGIN:VEVENT
UID:4913
DTSTAMP:20260422T035347
DTSTART:20100307T180000
DTEND:20100307T000000
SUMMARY:TACA'M: "Tirant i Carmesina, la verdadera història"
LOCATION:
METHOD:PUBLISH
X-WR-CALNAME:caldesm@caldesdemontbui.cat
X-WR-TIMEZONE:Europe/Madrid
DESCRIPTION:
URI:https://www.caldesdemontbui.cat/actualitat/agenda/tacam-tirant-i-carmesina-la-verdadera-historia.html
CLASS:PUBLIC
END:VEVENT
END:VCALENDAR
