BEGIN:VCALENDAR
VERSION:2.0
CALSCALE:GREGORIAN
PRODID:-//Diputació de Barcelona//DibaCMS//EN
BEGIN:VEVENT
UID:4912
DTSTAMP:20260421T200650
DTSTART:20100228T180000
DTEND:20100228T000000
SUMMARY:TACA'M: "Una taula per a sis"
LOCATION:
METHOD:PUBLISH
X-WR-CALNAME:caldesm@caldesdemontbui.cat
X-WR-TIMEZONE:Europe/Madrid
DESCRIPTION:
URI:https://www.caldesdemontbui.cat/actualitat/agenda/tacam-una-taula-per-a-sis.html
CLASS:PUBLIC
END:VEVENT
END:VCALENDAR
