BEGIN:VCALENDAR
VERSION:2.0
CALSCALE:GREGORIAN
PRODID:-//Diputació de Barcelona//DibaCMS//EN
BEGIN:VEVENT
UID:4911
DTSTAMP:20260421T215151
DTSTART:20100228T090000
DTEND:20100228T200000
SUMMARY:Consulta popular per la independència 
LOCATION:
METHOD:PUBLISH
X-WR-CALNAME:caldesm@caldesdemontbui.cat
X-WR-TIMEZONE:Europe/Madrid
DESCRIPTION:
URI:https://www.caldesdemontbui.cat/actualitat/agenda/consulta-popular-per-la-independencia-.html
CLASS:PUBLIC
END:VEVENT
END:VCALENDAR
