BEGIN:VCALENDAR
VERSION:2.0
CALSCALE:GREGORIAN
PRODID:-//Diputació de Barcelona//DibaCMS//EN
BEGIN:VEVENT
UID:4910
DTSTAMP:20260423T041931
DTSTART:20100228T000000
DTEND:20100228T000000
SUMMARY:Guardioles per Haití: A la consulta per la independència
LOCATION:
METHOD:PUBLISH
X-WR-CALNAME:caldesm@caldesdemontbui.cat
X-WR-TIMEZONE:Europe/Madrid
DESCRIPTION:
URI:https://www.caldesdemontbui.cat/actualitat/agenda/guardioles-per-haiti-a-la-consulta-per-la-independencia.html
CLASS:PUBLIC
END:VEVENT
END:VCALENDAR
