BEGIN:VCALENDAR
VERSION:2.0
CALSCALE:GREGORIAN
PRODID:-//Diputació de Barcelona//DibaCMS//EN
BEGIN:VEVENT
UID:4909
DTSTAMP:20260421T202235
DTSTART:20100228T000000
DTEND:20100228T000000
SUMMARY:16a Etapa del Camí de Ronda 
LOCATION:
METHOD:PUBLISH
X-WR-CALNAME:caldesm@caldesdemontbui.cat
X-WR-TIMEZONE:Europe/Madrid
DESCRIPTION:
URI:https://www.caldesdemontbui.cat/actualitat/agenda/16a-etapa-del-cami-de-ronda-.html
CLASS:PUBLIC
END:VEVENT
END:VCALENDAR
