BEGIN:VCALENDAR
VERSION:2.0
CALSCALE:GREGORIAN
PRODID:-//Diputació de Barcelona//DibaCMS//EN
BEGIN:VEVENT
UID:4908
DTSTAMP:20260421T212718
DTSTART:20100227T190000
DTEND:20100227T000000
SUMMARY:Concert a càrrec del cantautor Cesk Freixas
LOCATION:
METHOD:PUBLISH
X-WR-CALNAME:caldesm@caldesdemontbui.cat
X-WR-TIMEZONE:Europe/Madrid
DESCRIPTION:
URI:https://www.caldesdemontbui.cat/actualitat/agenda/concert-a-carrec-del-cantautor-cesk-freixas.html
CLASS:PUBLIC
END:VEVENT
END:VCALENDAR
