BEGIN:VCALENDAR
VERSION:2.0
CALSCALE:GREGORIAN
PRODID:-//Diputació de Barcelona//DibaCMS//EN
BEGIN:VEVENT
UID:4907
DTSTAMP:20260421T214819
DTSTART:20100226T200000
DTEND:20100226T000000
SUMMARY:Presentació de la campanya: Exigeix Dignitat 
LOCATION:
METHOD:PUBLISH
X-WR-CALNAME:caldesm@caldesdemontbui.cat
X-WR-TIMEZONE:Europe/Madrid
DESCRIPTION:
URI:https://www.caldesdemontbui.cat/actualitat/agenda/presentacio-de-la-campanya-exigeix-dignitat-.html
CLASS:PUBLIC
END:VEVENT
END:VCALENDAR
