BEGIN:VCALENDAR
VERSION:2.0
CALSCALE:GREGORIAN
PRODID:-//Diputació de Barcelona//DibaCMS//EN
BEGIN:VEVENT
UID:4906
DTSTAMP:20260422T002032
DTSTART:20100226T193000
DTEND:20100226T000000
SUMMARY:Cinefòrum a partir del documental de TV3 "Cataluña-Espanya"
LOCATION:
METHOD:PUBLISH
X-WR-CALNAME:caldesm@caldesdemontbui.cat
X-WR-TIMEZONE:Europe/Madrid
DESCRIPTION:
URI:https://www.caldesdemontbui.cat/actualitat/agenda/cineforum-a-partir-del-documental-de-tv3-cataluna-espanya.html
CLASS:PUBLIC
END:VEVENT
END:VCALENDAR
